BEGIN:VCALENDAR
VERSION:2.0
PRODID:-//Let Them Come Missionary Baptist Church - ECPv6.15.20//NONSGML v1.0//EN
CALSCALE:GREGORIAN
METHOD:PUBLISH
X-WR-CALNAME:Let Them Come Missionary Baptist Church
X-ORIGINAL-URL:https://letthemcome.org
X-WR-CALDESC:Events for Let Them Come Missionary Baptist Church
REFRESH-INTERVAL;VALUE=DURATION:PT1H
X-Robots-Tag:noindex
X-PUBLISHED-TTL:PT1H
BEGIN:VTIMEZONE
TZID:America/Detroit
BEGIN:DAYLIGHT
TZOFFSETFROM:-0500
TZOFFSETTO:-0400
TZNAME:EDT
DTSTART:20220313T070000
END:DAYLIGHT
BEGIN:STANDARD
TZOFFSETFROM:-0400
TZOFFSETTO:-0500
TZNAME:EST
DTSTART:20221106T060000
END:STANDARD
BEGIN:DAYLIGHT
TZOFFSETFROM:-0500
TZOFFSETTO:-0400
TZNAME:EDT
DTSTART:20230312T070000
END:DAYLIGHT
BEGIN:STANDARD
TZOFFSETFROM:-0400
TZOFFSETTO:-0500
TZNAME:EST
DTSTART:20231105T060000
END:STANDARD
BEGIN:DAYLIGHT
TZOFFSETFROM:-0500
TZOFFSETTO:-0400
TZNAME:EDT
DTSTART:20240310T070000
END:DAYLIGHT
BEGIN:STANDARD
TZOFFSETFROM:-0400
TZOFFSETTO:-0500
TZNAME:EST
DTSTART:20241103T060000
END:STANDARD
END:VTIMEZONE
BEGIN:VEVENT
DTSTART;TZID=America/Detroit:20230730T110000
DTEND;TZID=America/Detroit:20230730T123000
DTSTAMP:20260425T134504
CREATED:20230422T181843Z
LAST-MODIFIED:20230623T211215Z
UID:776-1690714800-1690720200@letthemcome.org
SUMMARY:Friends & Family Day\, Morning Speaker: Rev. Frederick Turner\, 7-30-23
DESCRIPTION:Join us for Friends & Family Day on July 30th.  Our guest morning speaker Rev. Frederick Turner.  Light refreshments will be served.  The service will begin at 11:00 a.m.   \n\n\n\nHope you can join us.  Feel free to bring a family member\, a friend\, or both.
URL:https://letthemcome.org/event/friends-family-day/
ATTACH;FMTTYPE=image/png:https://letthemcome.org/wp-content/uploads/2023/04/Rev.-Frederick-Turner.png
END:VEVENT
END:VCALENDAR