BEGIN:VCALENDAR
VERSION:2.0
PRODID:-//Let Them Come Missionary Baptist Church - ECPv6.15.20//NONSGML v1.0//EN
CALSCALE:GREGORIAN
METHOD:PUBLISH
X-ORIGINAL-URL:https://letthemcome.org
X-WR-CALDESC:Events for Let Them Come Missionary Baptist Church
REFRESH-INTERVAL;VALUE=DURATION:PT1H
X-Robots-Tag:noindex
X-PUBLISHED-TTL:PT1H
BEGIN:VTIMEZONE
TZID:America/Detroit
BEGIN:DAYLIGHT
TZOFFSETFROM:-0500
TZOFFSETTO:-0400
TZNAME:EDT
DTSTART:20220313T070000
END:DAYLIGHT
BEGIN:STANDARD
TZOFFSETFROM:-0400
TZOFFSETTO:-0500
TZNAME:EST
DTSTART:20221106T060000
END:STANDARD
BEGIN:DAYLIGHT
TZOFFSETFROM:-0500
TZOFFSETTO:-0400
TZNAME:EDT
DTSTART:20230312T070000
END:DAYLIGHT
BEGIN:STANDARD
TZOFFSETFROM:-0400
TZOFFSETTO:-0500
TZNAME:EST
DTSTART:20231105T060000
END:STANDARD
BEGIN:DAYLIGHT
TZOFFSETFROM:-0500
TZOFFSETTO:-0400
TZNAME:EDT
DTSTART:20240310T070000
END:DAYLIGHT
BEGIN:STANDARD
TZOFFSETFROM:-0400
TZOFFSETTO:-0500
TZNAME:EST
DTSTART:20241103T060000
END:STANDARD
END:VTIMEZONE
BEGIN:VEVENT
DTSTART;TZID=America/Detroit:20230820T110000
DTEND;TZID=America/Detroit:20230820T123000
DTSTAMP:20260425T134609
CREATED:20230718T053543Z
LAST-MODIFIED:20230718T053545Z
UID:996-1692529200-1692534600@letthemcome.org
SUMMARY:Morning Speaker: Rev. Stacy Smith\, 8-20-23
DESCRIPTION:Please come and worship with us. Morning Speaker will be our Rev. Stacy Smith.
URL:https://letthemcome.org/event/morning-speaker-rev-stacy-smith-8-20-23/
END:VEVENT
END:VCALENDAR