BEGIN:VCALENDAR
VERSION:2.0
PRODID:-//Let Them Come Missionary Baptist Church - ECPv6.15.20//NONSGML v1.0//EN
CALSCALE:GREGORIAN
METHOD:PUBLISH
X-ORIGINAL-URL:https://letthemcome.org
X-WR-CALDESC:Events for Let Them Come Missionary Baptist Church
REFRESH-INTERVAL;VALUE=DURATION:PT1H
X-Robots-Tag:noindex
X-PUBLISHED-TTL:PT1H
BEGIN:VTIMEZONE
TZID:America/Detroit
BEGIN:DAYLIGHT
TZOFFSETFROM:-0500
TZOFFSETTO:-0400
TZNAME:EDT
DTSTART:20230312T070000
END:DAYLIGHT
BEGIN:STANDARD
TZOFFSETFROM:-0400
TZOFFSETTO:-0500
TZNAME:EST
DTSTART:20231105T060000
END:STANDARD
BEGIN:DAYLIGHT
TZOFFSETFROM:-0500
TZOFFSETTO:-0400
TZNAME:EDT
DTSTART:20240310T070000
END:DAYLIGHT
BEGIN:STANDARD
TZOFFSETFROM:-0400
TZOFFSETTO:-0500
TZNAME:EST
DTSTART:20241103T060000
END:STANDARD
BEGIN:DAYLIGHT
TZOFFSETFROM:-0500
TZOFFSETTO:-0400
TZNAME:EDT
DTSTART:20250309T070000
END:DAYLIGHT
BEGIN:STANDARD
TZOFFSETFROM:-0400
TZOFFSETTO:-0500
TZNAME:EST
DTSTART:20251102T060000
END:STANDARD
END:VTIMEZONE
BEGIN:VEVENT
DTSTART;TZID=America/Detroit:20240114T110000
DTEND;TZID=America/Detroit:20240114T123000
DTSTAMP:20260425T080120
CREATED:20240108T191432Z
LAST-MODIFIED:20240108T191434Z
UID:1699-1705230000-1705235400@letthemcome.org
SUMMARY:Morning Speaker: Rev. Tyrone Rayford\, 1/14/2024
DESCRIPTION:Join us this Sunday\, January 14\, 2024. Our morning speaker will be Rev. Tyrone Rayford. \n\n\n\nThe address is 10320 Hamilton Avenue\, Detroit\, MI 48202. Service begins at 11:00 a.m. If you come early\, you can join us for a hot beverage and pastries. \n\n\n\nHope to see you on Sunday!
URL:https://letthemcome.org/event/morning-speaker-rev-tyrone-rayford-1-14-2024/
ATTACH;FMTTYPE=image/png:https://letthemcome.org/wp-content/uploads/2024/01/1-14-2024.png
END:VEVENT
END:VCALENDAR