BEGIN:VCALENDAR
VERSION:2.0
PRODID:-//Let Them Come Missionary Baptist Church - ECPv6.15.20//NONSGML v1.0//EN
CALSCALE:GREGORIAN
METHOD:PUBLISH
X-ORIGINAL-URL:https://letthemcome.org
X-WR-CALDESC:Events for Let Them Come Missionary Baptist Church
REFRESH-INTERVAL;VALUE=DURATION:PT1H
X-Robots-Tag:noindex
X-PUBLISHED-TTL:PT1H
BEGIN:VTIMEZONE
TZID:America/Detroit
BEGIN:DAYLIGHT
TZOFFSETFROM:-0500
TZOFFSETTO:-0400
TZNAME:EDT
DTSTART:20230312T070000
END:DAYLIGHT
BEGIN:STANDARD
TZOFFSETFROM:-0400
TZOFFSETTO:-0500
TZNAME:EST
DTSTART:20231105T060000
END:STANDARD
BEGIN:DAYLIGHT
TZOFFSETFROM:-0500
TZOFFSETTO:-0400
TZNAME:EDT
DTSTART:20240310T070000
END:DAYLIGHT
BEGIN:STANDARD
TZOFFSETFROM:-0400
TZOFFSETTO:-0500
TZNAME:EST
DTSTART:20241103T060000
END:STANDARD
BEGIN:DAYLIGHT
TZOFFSETFROM:-0500
TZOFFSETTO:-0400
TZNAME:EDT
DTSTART:20250309T070000
END:DAYLIGHT
BEGIN:STANDARD
TZOFFSETFROM:-0400
TZOFFSETTO:-0500
TZNAME:EST
DTSTART:20251102T060000
END:STANDARD
END:VTIMEZONE
BEGIN:VEVENT
DTSTART;TZID=America/Detroit:20240929T110000
DTEND;TZID=America/Detroit:20240929T123000
DTSTAMP:20260424T211351
CREATED:20240521T042823Z
LAST-MODIFIED:20240909T023048Z
UID:1820-1727607600-1727613000@letthemcome.org
SUMMARY:35th Church Anniversary\, 9/29/2024
DESCRIPTION:Join us for our Church’s 35th Anniversary (which is also our Friends & Family Day) on Sunday\, September 29th.  Our morning speaker will be our former Pastor\, Rev. Cornell Sampson Jr.  Dinner will be served immediately following morning service. Our service will begin at 11:00 a.m. \n\n\n\nHope you can join us. Feel free to bring a family member\, a friend\, or both.
URL:https://letthemcome.org/event/friends-and-family-day-9-29-2024/
ATTACH;FMTTYPE=image/png:https://letthemcome.org/wp-content/uploads/2024/05/35th-anniversary.png
END:VEVENT
END:VCALENDAR