BEGIN:VCALENDAR
VERSION:2.0
PRODID:-//Let Them Come Missionary Baptist Church - ECPv6.15.20//NONSGML v1.0//EN
CALSCALE:GREGORIAN
METHOD:PUBLISH
X-WR-CALNAME:Let Them Come Missionary Baptist Church
X-ORIGINAL-URL:https://letthemcome.org
X-WR-CALDESC:Events for Let Them Come Missionary Baptist Church
REFRESH-INTERVAL;VALUE=DURATION:PT1H
X-Robots-Tag:noindex
X-PUBLISHED-TTL:PT1H
BEGIN:VTIMEZONE
TZID:America/Detroit
BEGIN:DAYLIGHT
TZOFFSETFROM:-0500
TZOFFSETTO:-0400
TZNAME:EDT
DTSTART:20220313T070000
END:DAYLIGHT
BEGIN:STANDARD
TZOFFSETFROM:-0400
TZOFFSETTO:-0500
TZNAME:EST
DTSTART:20221106T060000
END:STANDARD
BEGIN:DAYLIGHT
TZOFFSETFROM:-0500
TZOFFSETTO:-0400
TZNAME:EDT
DTSTART:20230312T070000
END:DAYLIGHT
BEGIN:STANDARD
TZOFFSETFROM:-0400
TZOFFSETTO:-0500
TZNAME:EST
DTSTART:20231105T060000
END:STANDARD
BEGIN:DAYLIGHT
TZOFFSETFROM:-0500
TZOFFSETTO:-0400
TZNAME:EDT
DTSTART:20240310T070000
END:DAYLIGHT
BEGIN:STANDARD
TZOFFSETFROM:-0400
TZOFFSETTO:-0500
TZNAME:EST
DTSTART:20241103T060000
END:STANDARD
BEGIN:DAYLIGHT
TZOFFSETFROM:-0500
TZOFFSETTO:-0400
TZNAME:EDT
DTSTART:20250309T070000
END:DAYLIGHT
BEGIN:STANDARD
TZOFFSETFROM:-0400
TZOFFSETTO:-0500
TZNAME:EST
DTSTART:20251102T060000
END:STANDARD
END:VTIMEZONE
BEGIN:VEVENT
DTSTART;TZID=America/Detroit:20240317T110000
DTEND;TZID=America/Detroit:20240317T123000
DTSTAMP:20260425T103310
CREATED:20240205T031607Z
LAST-MODIFIED:20240312T003327Z
UID:1738-1710673200-1710678600@letthemcome.org
SUMMARY:Morning Speaker:  3/17/2024
DESCRIPTION:Join us for morning service. Our service begins at 11:00 a.m. Come early for a hot beverage and pastries. We are looking forward to seeing you.
URL:https://letthemcome.org/event/morning-speaker-pastor-paul-bryant-sr-3-17-2024/
END:VEVENT
BEGIN:VEVENT
DTSTART;TZID=America/Detroit:20240310T110000
DTEND;TZID=America/Detroit:20240310T123000
DTSTAMP:20260425T103310
CREATED:20240108T200314Z
LAST-MODIFIED:20240306T021319Z
UID:1719-1710068400-1710073800@letthemcome.org
SUMMARY:Morning Speaker: Bishop Sean Coney 3/10/2024
DESCRIPTION:
URL:https://letthemcome.org/event/morning-speaker-bishop-sean-coney-3-10-2024/
ATTACH;FMTTYPE=image/png:https://letthemcome.org/wp-content/uploads/2024/03/Pastor-Coney-1.png
END:VEVENT
BEGIN:VEVENT
DTSTART;TZID=America/Detroit:20240310T110000
DTEND;TZID=America/Detroit:20240310T123000
DTSTAMP:20260425T103310
CREATED:20240108T200130Z
LAST-MODIFIED:20240108T200132Z
UID:1717-1710068400-1710073800@letthemcome.org
SUMMARY:Morning Speaker: TBA\, 3/10/2024
DESCRIPTION:
URL:https://letthemcome.org/event/morning-speaker-tba-3-10-2024/
END:VEVENT
BEGIN:VEVENT
DTSTART;TZID=America/Detroit:20240303T110000
DTEND;TZID=America/Detroit:20240303T123000
DTSTAMP:20260425T103310
CREATED:20240108T200023Z
LAST-MODIFIED:20240227T122125Z
UID:1715-1709463600-1709469000@letthemcome.org
SUMMARY:Morning Speaker: Rev. Anthony Taylor\, 3/3/2024
DESCRIPTION:Our Guest Speaker will be Rev. Anthony Taylor.
URL:https://letthemcome.org/event/morning-speaker-rev-anthony-taylor/
ATTACH;FMTTYPE=image/png:https://letthemcome.org/wp-content/uploads/2024/02/Rev.-Anthony-Taylor.png
END:VEVENT
BEGIN:VEVENT
DTSTART;TZID=America/Detroit:20240225T110000
DTEND;TZID=America/Detroit:20240225T123000
DTSTAMP:20260425T103310
CREATED:20240108T195844Z
LAST-MODIFIED:20240108T195846Z
UID:1713-1708858800-1708864200@letthemcome.org
SUMMARY:Morning Speaker: TBA\, 2/25/2024
DESCRIPTION:
URL:https://letthemcome.org/event/morning-speaker-tba-2-25-2024/
END:VEVENT
BEGIN:VEVENT
DTSTART;TZID=America/Detroit:20240218T110000
DTEND;TZID=America/Detroit:20240218T123000
DTSTAMP:20260425T103310
CREATED:20240108T195705Z
LAST-MODIFIED:20240213T040436Z
UID:1711-1708254000-1708259400@letthemcome.org
SUMMARY:Morning Speaker: Bishop Zeid Griffin\, 2/18/2024
DESCRIPTION:Join us for morning service. Our service begins at 11:00 a.m. Come early for a hot beverage and pastries. We are looking forward to seeing you.
URL:https://letthemcome.org/event/morning-speaker-tba-1-18-2024/
ATTACH;FMTTYPE=image/png:https://letthemcome.org/wp-content/uploads/2024/01/Bishop-Zeid-Griffin.png
END:VEVENT
BEGIN:VEVENT
DTSTART;TZID=America/Detroit:20240211T110000
DTEND;TZID=America/Detroit:20240211T123000
DTSTAMP:20260425T103310
CREATED:20240108T195502Z
LAST-MODIFIED:20240213T040225Z
UID:1709-1707649200-1707654600@letthemcome.org
SUMMARY:Morning Speaker: Rev. Roger Simmons\, 2/11/2024
DESCRIPTION:Join us for morning service. Our service begins at 11:00 a.m. Come early for a hot beverage and pastries. We are looking forward to seeing you.
URL:https://letthemcome.org/event/morning-speaker-tba-2-11-2024/
END:VEVENT
BEGIN:VEVENT
DTSTART;TZID=America/Detroit:20240204T110000
DTEND;TZID=America/Detroit:20240204T123000
DTSTAMP:20260425T103310
CREATED:20240108T194017Z
LAST-MODIFIED:20240108T194213Z
UID:1706-1707044400-1707049800@letthemcome.org
SUMMARY:Morning Speaker: TBA\, 2/4/2024
DESCRIPTION:Join us for morning service. Our service begins at 11:00 a.m. Come early for a hot beverage and pastries. We are looking forward to seeing you.
URL:https://letthemcome.org/event/morning-speaker-tba-1-28-2024-2/
END:VEVENT
BEGIN:VEVENT
DTSTART;TZID=America/Detroit:20240128T110000
DTEND;TZID=America/Detroit:20240128T123000
DTSTAMP:20260425T103310
CREATED:20240108T193847Z
LAST-MODIFIED:20240108T193849Z
UID:1704-1706439600-1706445000@letthemcome.org
SUMMARY:Morning Speaker: TBA\, 1/28/2024
DESCRIPTION:Join us for morning service. Our service begins at 11:00 a.m. Come early for a hot beverage and pastries. We are looking forward to seeing you.
URL:https://letthemcome.org/event/morning-speaker-tba-1-28-2024/
END:VEVENT
BEGIN:VEVENT
DTSTART;TZID=America/Detroit:20240121T110000
DTEND;TZID=America/Detroit:20240121T123000
DTSTAMP:20260425T103310
CREATED:20240108T193717Z
LAST-MODIFIED:20240213T040201Z
UID:1702-1705834800-1705840200@letthemcome.org
SUMMARY:Morning Speaker: Rev. Roger Simmons\, 1/21/2024
DESCRIPTION:Join us for morning service.  Our service begins at 11:00 a.m.  Come early for a hot beverage and pastries.  We are looking forward to seeing you.
URL:https://letthemcome.org/event/morning-speaker-tba-1-21-2024/
END:VEVENT
BEGIN:VEVENT
DTSTART;TZID=America/Detroit:20240114T110000
DTEND;TZID=America/Detroit:20240114T123000
DTSTAMP:20260425T103310
CREATED:20240108T191432Z
LAST-MODIFIED:20240108T191434Z
UID:1699-1705230000-1705235400@letthemcome.org
SUMMARY:Morning Speaker: Rev. Tyrone Rayford\, 1/14/2024
DESCRIPTION:Join us this Sunday\, January 14\, 2024. Our morning speaker will be Rev. Tyrone Rayford. \n\n\n\nThe address is 10320 Hamilton Avenue\, Detroit\, MI 48202. Service begins at 11:00 a.m. If you come early\, you can join us for a hot beverage and pastries. \n\n\n\nHope to see you on Sunday!
URL:https://letthemcome.org/event/morning-speaker-rev-tyrone-rayford-1-14-2024/
ATTACH;FMTTYPE=image/png:https://letthemcome.org/wp-content/uploads/2024/01/1-14-2024.png
END:VEVENT
BEGIN:VEVENT
DTSTART;TZID=America/Detroit:20240107T110000
DTEND;TZID=America/Detroit:20240107T123000
DTSTAMP:20260425T103310
CREATED:20231112T200740Z
LAST-MODIFIED:20231112T200743Z
UID:1243-1704625200-1704630600@letthemcome.org
SUMMARY:Morning Speaker: Rev. Roger Simmons\, 1/7/2024
DESCRIPTION:
URL:https://letthemcome.org/event/morning-speaker-rev-roger-simmons-1-7-2024/
END:VEVENT
BEGIN:VEVENT
DTSTART;TZID=America/Detroit:20231231T110000
DTEND;TZID=America/Detroit:20231231T123000
DTSTAMP:20260425T103310
CREATED:20231112T200610Z
LAST-MODIFIED:20231204T043459Z
UID:1240-1704020400-1704025800@letthemcome.org
SUMMARY:Morning Speaker: Rev Roger Simmons\, 12/31/2023
DESCRIPTION:Please come and worship with us on New Year’s Eve and Family & Friends Sunday Service. The morning speaker will be our Host Pulpit Officiant\, Rev. Roger Simmons.
URL:https://letthemcome.org/event/morning-speaker-rev-roger-simmons-12-31-2023/
ATTACH;FMTTYPE=image/png:https://letthemcome.org/wp-content/uploads/2023/12/Palm-Sunday.png
END:VEVENT
BEGIN:VEVENT
DTSTART;TZID=America/Detroit:20231224T110000
DTEND;TZID=America/Detroit:20231224T123000
DTSTAMP:20260425T103310
CREATED:20231112T200430Z
LAST-MODIFIED:20231204T042125Z
UID:1237-1703415600-1703421000@letthemcome.org
SUMMARY:Morning Speaker: Rev. Roger Simmons\, 12/24/2023
DESCRIPTION:Please come and worship with us on Christmas Eve. The morning speaker will be our Host Pulpit Officiant\, Rev. Roger Simmons.
URL:https://letthemcome.org/event/morning-speaker-to-be-rev-roger-simmons-12-24-2023/
ATTACH;FMTTYPE=image/jpeg:https://letthemcome.org/wp-content/uploads/2023/12/christmas-eve.jpg
END:VEVENT
BEGIN:VEVENT
DTSTART;TZID=America/Detroit:20231217T080000
DTEND;TZID=America/Detroit:20231217T170000
DTSTAMP:20260425T103310
CREATED:20231112T200047Z
LAST-MODIFIED:20231204T041719Z
UID:1233-1702800000-1702832400@letthemcome.org
SUMMARY:Morning Speaker: Pastor Karsean Jones Sr \, 12/17/2023
DESCRIPTION:Please come and worship with us. The morning speaker will be Pastor Karsean Jones\, Sr.
URL:https://letthemcome.org/event/morning-speaker-pastor-karsean-jones-sr-12-17-2023/
ATTACH;FMTTYPE=image/png:https://letthemcome.org/wp-content/uploads/2023/12/K-Jones-12-17.png
END:VEVENT
BEGIN:VEVENT
DTSTART;TZID=America/Detroit:20231210T110000
DTEND;TZID=America/Detroit:20231210T123000
DTSTAMP:20260425T103310
CREATED:20231112T200008Z
LAST-MODIFIED:20231204T041336Z
UID:1231-1702206000-1702211400@letthemcome.org
SUMMARY:Morning Speaker: Rev. John Manning\, 12/10/2023
DESCRIPTION:Please come and worship with us. The morning speaker will be Pastor John Manning.
URL:https://letthemcome.org/event/morning-speaker-rev-john-manning-12-10-2023/
ATTACH;FMTTYPE=image/png:https://letthemcome.org/wp-content/uploads/2023/12/Manning-12-7.png
END:VEVENT
BEGIN:VEVENT
DTSTART;TZID=America/Detroit:20231203T110000
DTEND;TZID=America/Detroit:20231203T123000
DTSTAMP:20260425T103310
CREATED:20231112T195755Z
LAST-MODIFIED:20231112T200809Z
UID:1228-1701601200-1701606600@letthemcome.org
SUMMARY:Morning Speaker:  Rev. Roger Simmons\, 12/3/2023
DESCRIPTION:Please come and worship with us. We will be serving communion. Morning Speaker will be our Host Pulpit Officiant\, Rev. Roger Simmons.
URL:https://letthemcome.org/event/morning-speaker-to-be-rev-roger-simmons-12-3-2023/
END:VEVENT
BEGIN:VEVENT
DTSTART;TZID=America/Detroit:20231126T110000
DTEND;TZID=America/Detroit:20231126T123000
DTSTAMP:20260425T103310
CREATED:20231112T195530Z
LAST-MODIFIED:20231112T195831Z
UID:1224-1700996400-1701001800@letthemcome.org
SUMMARY:Morning Speaker:  Rev. Roger Simmons\, 11/26/2023
DESCRIPTION:Please come and worship with us.  Morning Speaker will be our Host Pulpit Officiant\, Rev. Roger Simmons.
URL:https://letthemcome.org/event/morning-speaker-rev-roger-simmons/
END:VEVENT
BEGIN:VEVENT
DTSTART;TZID=America/Detroit:20231119T110000
DTEND;TZID=America/Detroit:20231119T123000
DTSTAMP:20260425T103310
CREATED:20231112T195144Z
LAST-MODIFIED:20231116T034346Z
UID:1221-1700391600-1700397000@letthemcome.org
SUMMARY:Morning Speaker: Pastor Linwood Beale\, 11/19/2023
DESCRIPTION:Please come and worship with us. Morning Speaker will be Pastor Linwood Beale.
URL:https://letthemcome.org/event/morning-speaker-pastor-linwood-beale-11-19-2023/
ATTACH;FMTTYPE=image/png:https://letthemcome.org/wp-content/uploads/2023/11/Beale.png
END:VEVENT
BEGIN:VEVENT
DTSTART;TZID=America/Detroit:20231112T110000
DTEND;TZID=America/Detroit:20231112T123000
DTSTAMP:20260425T103310
CREATED:20231021T175040Z
LAST-MODIFIED:20231112T195248Z
UID:1203-1699786800-1699792200@letthemcome.org
SUMMARY:Morning Speaker:  Rev. Ronnie Campbell\, 11-12-23
DESCRIPTION:Join us for Sunday morning worship beginning a 11:00 a.m. The morning speaker will be Rev. Ronnie Campbell.
URL:https://letthemcome.org/event/morning-speaker-to-be-rev-ronnie-campbell-11-12-23/
ATTACH;FMTTYPE=image/png:https://letthemcome.org/wp-content/uploads/2023/10/Rev.-Campbell.png
END:VEVENT
BEGIN:VEVENT
DTSTART;TZID=America/Detroit:20231105T110000
DTEND;TZID=America/Detroit:20231105T123000
DTSTAMP:20260425T103310
CREATED:20231021T181443Z
LAST-MODIFIED:20231112T200839Z
UID:1206-1699182000-1699187400@letthemcome.org
SUMMARY:Morning Speaker: Rev. Roger Simmons\, 11-5-23
DESCRIPTION:Please come and worship with us. We will be serving communion. Morning Speaker will be our Host Pulpit Officiant\, Rev. Roger Simmons.
URL:https://letthemcome.org/event/morning-speaker-to-be-rev-roger-simmons-11-5-23/
ATTACH;FMTTYPE=image/png:https://letthemcome.org/wp-content/uploads/2023/10/simmons-1st-sunday.png
END:VEVENT
BEGIN:VEVENT
DTSTART;TZID=America/Detroit:20231029T110000
DTEND;TZID=America/Detroit:20231029T123000
DTSTAMP:20260425T103310
CREATED:20230422T182114Z
LAST-MODIFIED:20230504T012450Z
UID:778-1698577200-1698582600@letthemcome.org
SUMMARY:Friends & Family Day
DESCRIPTION:Join us for Friends & Family Day on October 30th during our morning service. Light refreshments will be served. Our service will begin at 11:00 a.m. \n\n\n\nHope you can join us. Feel free to bring a family member\, a friend\, or both.
URL:https://letthemcome.org/event/friends-and-family-day/
ATTACH;FMTTYPE=image/png:https://letthemcome.org/wp-content/uploads/2023/05/Palm-Sunday-4.png
END:VEVENT
BEGIN:VEVENT
DTSTART;TZID=America/Detroit:20231022T110000
DTEND;TZID=America/Detroit:20231022T123000
DTSTAMP:20260425T103310
CREATED:20231003T033132Z
LAST-MODIFIED:20231112T200906Z
UID:1173-1697972400-1697977800@letthemcome.org
SUMMARY:Morning Speaker: Rev. William Gray\, 10-22-23.
DESCRIPTION:Join us for Sunday morning worship beginning a 11:00 a.m. The morning speaker will be Rev. William Gray.
URL:https://letthemcome.org/event/morning-speaker-to-be-rev-william-gray-10-22-23/
ATTACH;FMTTYPE=image/png:https://letthemcome.org/wp-content/uploads/2023/10/Rev-Gray-1.png
END:VEVENT
BEGIN:VEVENT
DTSTART;TZID=America/Detroit:20231015T110000
DTEND;TZID=America/Detroit:20231015T123000
DTSTAMP:20260425T103310
CREATED:20230919T043036Z
LAST-MODIFIED:20230919T043037Z
UID:1156-1697367600-1697373000@letthemcome.org
SUMMARY:Morning Speaker: To Be Announced \, 10-15-23
DESCRIPTION:
URL:https://letthemcome.org/event/morning-speaker-to-be-announced-10-15-23/
END:VEVENT
BEGIN:VEVENT
DTSTART;TZID=America/Detroit:20231008T110000
DTEND;TZID=America/Detroit:20231008T123000
DTSTAMP:20260425T103310
CREATED:20230919T041600Z
LAST-MODIFIED:20231004T061425Z
UID:1152-1696762800-1696768200@letthemcome.org
SUMMARY:Morning Speaker: Rev. Matthew Brock\, 10-8-23
DESCRIPTION:Join us for Sunday morning worship beginning a 11:00 a.m.  The morning speaker will be Rev. Matthew Brock.
URL:https://letthemcome.org/event/morning-speaker-to-be-announced-9-24-23/
ATTACH;FMTTYPE=image/png:https://letthemcome.org/wp-content/uploads/2023/10/Rev-Gray-2.png
END:VEVENT
BEGIN:VEVENT
DTSTART;TZID=America/Detroit:20231001T110000
DTEND;TZID=America/Detroit:20231001T123000
DTSTAMP:20260425T103310
CREATED:20230919T042658Z
LAST-MODIFIED:20230919T042700Z
UID:1154-1696158000-1696163400@letthemcome.org
SUMMARY:Morning Speaker: Rev. Tyrone Rayford\, 10-1-23
DESCRIPTION:Morning Speaker will be our Host Pulpit Officiant\, Rev. Tyrone Rayford.
URL:https://letthemcome.org/event/morning-speaker-rev-tyrone-rayford-10-1-23-2/
END:VEVENT
BEGIN:VEVENT
DTSTART;TZID=America/Detroit:20230924T110000
DTEND;TZID=America/Detroit:20230924T123000
DTSTAMP:20260425T103310
CREATED:20230919T040442Z
LAST-MODIFIED:20230919T040525Z
UID:1147-1695553200-1695558600@letthemcome.org
SUMMARY:Morning Speaker: Rev. Tyrone Rayford\, 9-24-23
DESCRIPTION:Morning Speaker will be our Host Pulpit Officiant\, Rev. Tyrone Rayford.
URL:https://letthemcome.org/event/morning-speaker-rev-tyrone-rayford-9-24-23/
ATTACH;FMTTYPE=image/png:https://letthemcome.org/wp-content/uploads/2023/09/Rev-Rayford-0.png
END:VEVENT
BEGIN:VEVENT
DTSTART;TZID=America/Detroit:20230917T110000
DTEND;TZID=America/Detroit:20230917T123000
DTSTAMP:20260425T103310
CREATED:20230907T032043Z
LAST-MODIFIED:20230910T211731Z
UID:1131-1694948400-1694953800@letthemcome.org
SUMMARY:Morning Speaker: Bishop Sean Coney\, 9-17-23 
DESCRIPTION:Please come and worship with us. The morning speaker will be Bishop Sean Coney.
URL:https://letthemcome.org/event/morning-speaker-bishop-sean-coney-9-17-23/
ATTACH;FMTTYPE=image/png:https://letthemcome.org/wp-content/uploads/2023/09/Pastor-Coney-1.png
END:VEVENT
BEGIN:VEVENT
DTSTART;TZID=America/Detroit:20230910T110000
DTEND;TZID=America/Detroit:20230910T123000
DTSTAMP:20260425T103310
CREATED:20230907T025722Z
LAST-MODIFIED:20230907T031959Z
UID:1128-1694343600-1694349000@letthemcome.org
SUMMARY:Morning Speaker: Pastor LeQuin Williams Sr.\, 9-10-23
DESCRIPTION:Please come and worship with us. The morning speaker will be Pastor LeQuin Williams Sr.
URL:https://letthemcome.org/event/morning-speaker-pastor-lequin-williams-sr-9-10-23/
ATTACH;FMTTYPE=image/png:https://letthemcome.org/wp-content/uploads/2023/09/9-10-23.png
END:VEVENT
BEGIN:VEVENT
DTSTART;TZID=America/Detroit:20230903T110000
DTEND;TZID=America/Detroit:20230903T170000
DTSTAMP:20260425T103310
CREATED:20230422T182704Z
LAST-MODIFIED:20230818T054556Z
UID:781-1693738800-1693760400@letthemcome.org
SUMMARY:Let Them Come Missionary Baptist Church 34th Anniversary Celebration
DESCRIPTION:Join us for a weekend celebration to commemorate Let Them Come Missionary Baptist Church’s 34th Church Anniversary. \n\n\n\nOn Sunday\, join us for morning worship\, a special back-to-school prayer for the youth\, and communion. The morning speaker will be delivered by J Sanford from AM1340 WCHB. \n\n\n\nWe will have dinner in our Fellowship Hall following morning service\, followed by a spirit-filled musical beginning at 3:30 p.m. featuring some of Detroit’s finest choirs\, groups\, and soloists. It’s going to be a joyous time.  \n\n\n\nPerformance by: \n\n\n\nMC – The Electrifying Chris Moorer from 1440 AM WMKM \n\n\n\n*﻿ Rev. Millhouse & The Family \n\n\n\n* Dynamic Gospel Tones \n\n\n\n*﻿ Stairways to Heaven \n\n\n\n*﻿ Rev. Yarnell Waller & Family \n\n\n\n*﻿ Lauren Evans \n\n\n\n* A﻿lexis Alanis \n\n\n\n* Cunningham Family \n\n\n\n*﻿ Let Them Come Mass Choir \n\n\n\n*﻿ and other guests \n\n\n\nPlease join us in the celebration.
URL:https://letthemcome.org/event/let-them-come-missionary-baptist-church-34th-anniversary/
ATTACH;FMTTYPE=image/png:https://letthemcome.org/wp-content/uploads/2023/08/MUSICAL-FINAL-revised3.png
END:VEVENT
END:VCALENDAR