BEGIN:VCALENDAR
VERSION:2.0
PRODID:-//Let Them Come Missionary Baptist Church - ECPv6.15.20//NONSGML v1.0//EN
CALSCALE:GREGORIAN
METHOD:PUBLISH
X-WR-CALNAME:Let Them Come Missionary Baptist Church
X-ORIGINAL-URL:https://letthemcome.org
X-WR-CALDESC:Events for Let Them Come Missionary Baptist Church
REFRESH-INTERVAL;VALUE=DURATION:PT1H
X-Robots-Tag:noindex
X-PUBLISHED-TTL:PT1H
BEGIN:VTIMEZONE
TZID:America/Detroit
BEGIN:DAYLIGHT
TZOFFSETFROM:-0500
TZOFFSETTO:-0400
TZNAME:EDT
DTSTART:20230312T070000
END:DAYLIGHT
BEGIN:STANDARD
TZOFFSETFROM:-0400
TZOFFSETTO:-0500
TZNAME:EST
DTSTART:20231105T060000
END:STANDARD
BEGIN:DAYLIGHT
TZOFFSETFROM:-0500
TZOFFSETTO:-0400
TZNAME:EDT
DTSTART:20240310T070000
END:DAYLIGHT
BEGIN:STANDARD
TZOFFSETFROM:-0400
TZOFFSETTO:-0500
TZNAME:EST
DTSTART:20241103T060000
END:STANDARD
BEGIN:DAYLIGHT
TZOFFSETFROM:-0500
TZOFFSETTO:-0400
TZNAME:EDT
DTSTART:20250309T070000
END:DAYLIGHT
BEGIN:STANDARD
TZOFFSETFROM:-0400
TZOFFSETTO:-0500
TZNAME:EST
DTSTART:20251102T060000
END:STANDARD
BEGIN:DAYLIGHT
TZOFFSETFROM:-0500
TZOFFSETTO:-0400
TZNAME:EDT
DTSTART:20260308T070000
END:DAYLIGHT
BEGIN:STANDARD
TZOFFSETFROM:-0400
TZOFFSETTO:-0500
TZNAME:EST
DTSTART:20261101T060000
END:STANDARD
BEGIN:DAYLIGHT
TZOFFSETFROM:-0500
TZOFFSETTO:-0400
TZNAME:EDT
DTSTART:20270314T070000
END:DAYLIGHT
BEGIN:STANDARD
TZOFFSETFROM:-0400
TZOFFSETTO:-0500
TZNAME:EST
DTSTART:20271107T060000
END:STANDARD
BEGIN:DAYLIGHT
TZOFFSETFROM:-0500
TZOFFSETTO:-0400
TZNAME:EDT
DTSTART:20280312T070000
END:DAYLIGHT
BEGIN:STANDARD
TZOFFSETFROM:-0400
TZOFFSETTO:-0500
TZNAME:EST
DTSTART:20281105T060000
END:STANDARD
BEGIN:DAYLIGHT
TZOFFSETFROM:-0500
TZOFFSETTO:-0400
TZNAME:EDT
DTSTART:20290311T070000
END:DAYLIGHT
BEGIN:STANDARD
TZOFFSETFROM:-0400
TZOFFSETTO:-0500
TZNAME:EST
DTSTART:20291104T060000
END:STANDARD
END:VTIMEZONE
BEGIN:VEVENT
DTSTART;TZID=America/Detroit:20241229T110000
DTEND;TZID=America/Detroit:20241229T123000
DTSTAMP:20260425T074710
CREATED:20240521T043116Z
LAST-MODIFIED:20240521T043122Z
UID:1822-1735470000-1735475400@letthemcome.org
SUMMARY:Friends and Family Day\, 12/29/2024
DESCRIPTION:Join us for Friends & Family Day on October 30th during our morning service. Light refreshments will be served. Our service will begin at 11:00 a.m. \n\n\n\nHope you can join us. Feel free to bring a family member\, a friend\, or both.
URL:https://letthemcome.org/event/friends-and-family-day-12-29-2024/
ATTACH;FMTTYPE=image/png:https://letthemcome.org/wp-content/uploads/2023/05/Palm-Sunday-4.png
END:VEVENT
BEGIN:VEVENT
DTSTART;TZID=America/Detroit:20280101T080000
DTEND;TZID=America/Detroit:20280101T170000
DTSTAMP:20260425T074710
CREATED:20240521T043312Z
LAST-MODIFIED:20240521T043317Z
UID:1824-1830326400-1830358800@letthemcome.org
SUMMARY:Coming Soon: TBA
DESCRIPTION:
URL:https://letthemcome.org/event/coming-soon-tba/
END:VEVENT
END:VCALENDAR