BEGIN:VCALENDAR
VERSION:2.0
PRODID:-//Let Them Come Missionary Baptist Church - ECPv6.15.20//NONSGML v1.0//EN
CALSCALE:GREGORIAN
METHOD:PUBLISH
X-WR-CALNAME:Let Them Come Missionary Baptist Church
X-ORIGINAL-URL:https://letthemcome.org
X-WR-CALDESC:Events for Let Them Come Missionary Baptist Church
REFRESH-INTERVAL;VALUE=DURATION:PT1H
X-Robots-Tag:noindex
X-PUBLISHED-TTL:PT1H
BEGIN:VTIMEZONE
TZID:UTC
BEGIN:STANDARD
TZOFFSETFROM:+0000
TZOFFSETTO:+0000
TZNAME:UTC
DTSTART:20220101T000000
END:STANDARD
END:VTIMEZONE
BEGIN:VEVENT
DTSTART;TZID=UTC:20230228T190000
DTEND;TZID=UTC:20230228T200000
DTSTAMP:20260425T113953
CREATED:20230224T120426Z
LAST-MODIFIED:20230224T121149Z
UID:111-1677610800-1677614400@letthemcome.org
SUMMARY:Weekly Prayer and Bible Study
DESCRIPTION:
URL:https://letthemcome.org/event/weekly-prayer-and-bible-study/
END:VEVENT
END:VCALENDAR