BEGIN:VCALENDAR
VERSION:2.0
PRODID:-//Let Them Come Missionary Baptist Church - ECPv6.15.20//NONSGML v1.0//EN
CALSCALE:GREGORIAN
METHOD:PUBLISH
X-WR-CALNAME:Let Them Come Missionary Baptist Church
X-ORIGINAL-URL:https://letthemcome.org
X-WR-CALDESC:Events for Let Them Come Missionary Baptist Church
REFRESH-INTERVAL;VALUE=DURATION:PT1H
X-Robots-Tag:noindex
X-PUBLISHED-TTL:PT1H
BEGIN:VTIMEZONE
TZID:America/Detroit
BEGIN:DAYLIGHT
TZOFFSETFROM:-0500
TZOFFSETTO:-0400
TZNAME:EDT
DTSTART:20220313T070000
END:DAYLIGHT
BEGIN:STANDARD
TZOFFSETFROM:-0400
TZOFFSETTO:-0500
TZNAME:EST
DTSTART:20221106T060000
END:STANDARD
BEGIN:DAYLIGHT
TZOFFSETFROM:-0500
TZOFFSETTO:-0400
TZNAME:EDT
DTSTART:20230312T070000
END:DAYLIGHT
BEGIN:STANDARD
TZOFFSETFROM:-0400
TZOFFSETTO:-0500
TZNAME:EST
DTSTART:20231105T060000
END:STANDARD
BEGIN:DAYLIGHT
TZOFFSETFROM:-0500
TZOFFSETTO:-0400
TZNAME:EDT
DTSTART:20240310T070000
END:DAYLIGHT
BEGIN:STANDARD
TZOFFSETFROM:-0400
TZOFFSETTO:-0500
TZNAME:EST
DTSTART:20241103T060000
END:STANDARD
END:VTIMEZONE
BEGIN:VTIMEZONE
TZID:America/New_York
BEGIN:DAYLIGHT
TZOFFSETFROM:-0500
TZOFFSETTO:-0400
TZNAME:EDT
DTSTART:20220313T070000
END:DAYLIGHT
BEGIN:STANDARD
TZOFFSETFROM:-0400
TZOFFSETTO:-0500
TZNAME:EST
DTSTART:20221106T060000
END:STANDARD
BEGIN:DAYLIGHT
TZOFFSETFROM:-0500
TZOFFSETTO:-0400
TZNAME:EDT
DTSTART:20230312T070000
END:DAYLIGHT
BEGIN:STANDARD
TZOFFSETFROM:-0400
TZOFFSETTO:-0500
TZNAME:EST
DTSTART:20231105T060000
END:STANDARD
BEGIN:DAYLIGHT
TZOFFSETFROM:-0500
TZOFFSETTO:-0400
TZNAME:EDT
DTSTART:20240310T070000
END:DAYLIGHT
BEGIN:STANDARD
TZOFFSETFROM:-0400
TZOFFSETTO:-0500
TZNAME:EST
DTSTART:20241103T060000
END:STANDARD
END:VTIMEZONE
BEGIN:VTIMEZONE
TZID:UTC
BEGIN:STANDARD
TZOFFSETFROM:+0000
TZOFFSETTO:+0000
TZNAME:UTC
DTSTART:20220101T000000
END:STANDARD
END:VTIMEZONE
BEGIN:VEVENT
DTSTART;TZID=America/Detroit:20230319T110000
DTEND;TZID=America/Detroit:20230319T123000
DTSTAMP:20260425T064430
CREATED:20230303T054210Z
LAST-MODIFIED:20230311T200506Z
UID:395-1679223600-1679229000@letthemcome.org
SUMMARY:Guest Speaker:  Pastor John Manning - March 19\, 2023
DESCRIPTION:Guest Speaker: Pastor John Manning – March 19\, 2023
URL:https://letthemcome.org/event/guest-speaker-tba/
END:VEVENT
BEGIN:VEVENT
DTSTART;TZID=America/Detroit:20230312T000000
DTEND;TZID=America/Detroit:20230312T123000
DTSTAMP:20260425T064430
CREATED:20230303T054049Z
LAST-MODIFIED:20230311T202749Z
UID:393-1678579200-1678624200@letthemcome.org
SUMMARY:Guest Speaker:  Rev. Yarnell Waller - March 12\, 2023
DESCRIPTION:Rev. Yarnell Waller will be our guest speaker.
URL:https://letthemcome.org/event/rev-yarnell-waller-guest-speaker-on-march-12/
LOCATION:Let Them Come MBC\, 10320 Hamilton Avenue\, Detroit\, 48202\, United States
END:VEVENT
BEGIN:VEVENT
DTSTART;TZID=America/New_York:20230307T190000
DTEND;TZID=America/New_York:20230307T200000
DTSTAMP:20260425T064430
CREATED:20230224T111908Z
LAST-MODIFIED:20230224T120511Z
UID:104-1678215600-1678219200@letthemcome.org
SUMMARY:Weekly Prayer and Bible Study
DESCRIPTION:
URL:https://letthemcome.org/event/weekly-prayer-and-bible-study-2/
LOCATION:Virtual
END:VEVENT
BEGIN:VEVENT
DTSTART;TZID=America/Detroit:20230305T110000
DTEND;TZID=America/Detroit:20230305T123000
DTSTAMP:20260425T064430
CREATED:20230303T053805Z
LAST-MODIFIED:20230415T191639Z
UID:389-1678014000-1678019400@letthemcome.org
SUMMARY:Guest Speaker Rev. Roger Simmons & Communion Sunday
DESCRIPTION:Rev. Roger Simmons will be our guest speaker for the morning service.  We will also be serving communion.
URL:https://letthemcome.org/event/guest-speaker-rev-roger-simmons-communion-sunday/
LOCATION:Let Them Come MBC\, 10320 Hamilton Avenue\, Detroit\, 48202\, United States
END:VEVENT
BEGIN:VEVENT
DTSTART;TZID=UTC:20230228T190000
DTEND;TZID=UTC:20230228T200000
DTSTAMP:20260425T064430
CREATED:20230224T120426Z
LAST-MODIFIED:20230224T121149Z
UID:111-1677610800-1677614400@letthemcome.org
SUMMARY:Weekly Prayer and Bible Study
DESCRIPTION:
URL:https://letthemcome.org/event/weekly-prayer-and-bible-study/
END:VEVENT
END:VCALENDAR