BEGIN:VCALENDAR
VERSION:2.0
PRODID:-//Let Them Come Missionary Baptist Church - ECPv6.15.20//NONSGML v1.0//EN
CALSCALE:GREGORIAN
METHOD:PUBLISH
X-WR-CALNAME:Let Them Come Missionary Baptist Church
X-ORIGINAL-URL:https://letthemcome.org
X-WR-CALDESC:Events for Let Them Come Missionary Baptist Church
REFRESH-INTERVAL;VALUE=DURATION:PT1H
X-Robots-Tag:noindex
X-PUBLISHED-TTL:PT1H
BEGIN:VTIMEZONE
TZID:America/Detroit
BEGIN:DAYLIGHT
TZOFFSETFROM:-0500
TZOFFSETTO:-0400
TZNAME:EDT
DTSTART:20220313T070000
END:DAYLIGHT
BEGIN:STANDARD
TZOFFSETFROM:-0400
TZOFFSETTO:-0500
TZNAME:EST
DTSTART:20221106T060000
END:STANDARD
BEGIN:DAYLIGHT
TZOFFSETFROM:-0500
TZOFFSETTO:-0400
TZNAME:EDT
DTSTART:20230312T070000
END:DAYLIGHT
BEGIN:STANDARD
TZOFFSETFROM:-0400
TZOFFSETTO:-0500
TZNAME:EST
DTSTART:20231105T060000
END:STANDARD
BEGIN:DAYLIGHT
TZOFFSETFROM:-0500
TZOFFSETTO:-0400
TZNAME:EDT
DTSTART:20240310T070000
END:DAYLIGHT
BEGIN:STANDARD
TZOFFSETFROM:-0400
TZOFFSETTO:-0500
TZNAME:EST
DTSTART:20241103T060000
END:STANDARD
END:VTIMEZONE
BEGIN:VEVENT
DTSTART;TZID=America/Detroit:20230402T110000
DTEND;TZID=America/Detroit:20230402T123000
DTSTAMP:20260425T172452
CREATED:20230329T041726Z
LAST-MODIFIED:20230329T042613Z
UID:657-1680433200-1680438600@letthemcome.org
SUMMARY:Palm Sunday\, 4-2-23 Rev. Tyrone Rayford
DESCRIPTION:Join Us for Palm Sunday Service! Our Guest Minister will be Rev. Tyrone Rayford. Service will begin at 11:00 a.m.
URL:https://letthemcome.org/event/palm-sunday-4-2-23-rev-tyrone-rayford/
END:VEVENT
BEGIN:VEVENT
DTSTART;TZID=America/Detroit:20230409T110000
DTEND;TZID=America/Detroit:20230409T123000
DTSTAMP:20260425T172452
CREATED:20230329T043249Z
LAST-MODIFIED:20230415T225856Z
UID:662-1681038000-1681043400@letthemcome.org
SUMMARY:Resurrection Sunday\, 4-9-23 Pastor Harold Taylor
DESCRIPTION:Join us for Resurrection Sunday Service.  Our guest speakers will be Pastor Harold Taylor.
URL:https://letthemcome.org/event/resurrection-sunday-4-9-23-pastor-harold-taylor/
ATTACH;FMTTYPE=image/png:https://letthemcome.org/wp-content/uploads/2023/03/Palm-Sunday-3.png
END:VEVENT
BEGIN:VEVENT
DTSTART;TZID=America/Detroit:20230416T110000
DTEND;TZID=America/Detroit:20230416T123000
DTSTAMP:20260425T172452
CREATED:20230402T021052Z
LAST-MODIFIED:20230415T225702Z
UID:671-1681642800-1681648200@letthemcome.org
SUMMARY:Guest Speaker\, Pastor John Manning 4-16-23
DESCRIPTION:Pastor John Manning will be our guest speaker on Sunday\, April 16\, 2024 at 11:00 a.m.
URL:https://letthemcome.org/event/guest-speaker-pastor-john-manning-4-16-2/
ATTACH;FMTTYPE=image/png:https://letthemcome.org/wp-content/uploads/2023/04/Palm-Sunday-4.png
END:VEVENT
BEGIN:VEVENT
DTSTART;TZID=America/Detroit:20230418T190000
DTEND;TZID=America/Detroit:20230418T190000
DTSTAMP:20260425T172452
CREATED:20230415T223909Z
LAST-MODIFIED:20230415T225752Z
UID:756-1681844400-1681844400@letthemcome.org
SUMMARY:Prayer and Bible Study
DESCRIPTION:
URL:https://letthemcome.org/event/prayer-and-bible-study/
ATTACH;FMTTYPE=image/png:https://letthemcome.org/wp-content/uploads/2023/04/bible-study.png
END:VEVENT
BEGIN:VEVENT
DTSTART;TZID=America/Detroit:20230423T110000
DTEND;TZID=America/Detroit:20230423T123000
DTSTAMP:20260425T172452
CREATED:20230415T190232Z
LAST-MODIFIED:20230415T225644Z
UID:723-1682247600-1682253000@letthemcome.org
SUMMARY:Morning Speaker: Rev. Tyrone Rayford\, 4-23-23
DESCRIPTION:Morning Speaker will be our Host Pulpit Officiant\, Rev. Tyrone Rayford.
URL:https://letthemcome.org/event/1100-am-1230-pm/
ATTACH;FMTTYPE=image/png:https://letthemcome.org/wp-content/uploads/2023/04/Rev-Rayford-Sunday.png
END:VEVENT
BEGIN:VEVENT
DTSTART;TZID=America/Detroit:20230430T110000
DTEND;TZID=America/Detroit:20230430T123000
DTSTAMP:20260425T172452
CREATED:20230415T222913Z
LAST-MODIFIED:20230415T225613Z
UID:744-1682852400-1682857800@letthemcome.org
SUMMARY:Guest Speaker: Rev. Dr. Eddie Connor 4-30-23.
DESCRIPTION:Our Sunday morning guest speaker will be Rev. Dr. Eddie Connor on 4-30-23.
URL:https://letthemcome.org/event/guest-speaker-rev-dr-eddie-connor-4-30-23/
ATTACH;FMTTYPE=image/png:https://letthemcome.org/wp-content/uploads/2023/04/Rev-Connor.png
END:VEVENT
END:VCALENDAR