BEGIN:VCALENDAR
VERSION:2.0
PRODID:-//Let Them Come Missionary Baptist Church - ECPv6.15.20//NONSGML v1.0//EN
CALSCALE:GREGORIAN
METHOD:PUBLISH
X-ORIGINAL-URL:https://letthemcome.org
X-WR-CALDESC:Events for Let Them Come Missionary Baptist Church
REFRESH-INTERVAL;VALUE=DURATION:PT1H
X-Robots-Tag:noindex
X-PUBLISHED-TTL:PT1H
BEGIN:VTIMEZONE
TZID:America/Detroit
BEGIN:DAYLIGHT
TZOFFSETFROM:-0500
TZOFFSETTO:-0400
TZNAME:EDT
DTSTART:20220313T070000
END:DAYLIGHT
BEGIN:STANDARD
TZOFFSETFROM:-0400
TZOFFSETTO:-0500
TZNAME:EST
DTSTART:20221106T060000
END:STANDARD
BEGIN:DAYLIGHT
TZOFFSETFROM:-0500
TZOFFSETTO:-0400
TZNAME:EDT
DTSTART:20230312T070000
END:DAYLIGHT
BEGIN:STANDARD
TZOFFSETFROM:-0400
TZOFFSETTO:-0500
TZNAME:EST
DTSTART:20231105T060000
END:STANDARD
BEGIN:DAYLIGHT
TZOFFSETFROM:-0500
TZOFFSETTO:-0400
TZNAME:EDT
DTSTART:20240310T070000
END:DAYLIGHT
BEGIN:STANDARD
TZOFFSETFROM:-0400
TZOFFSETTO:-0500
TZNAME:EST
DTSTART:20241103T060000
END:STANDARD
END:VTIMEZONE
BEGIN:VEVENT
DTSTART;TZID=America/Detroit:20230604T110000
DTEND;TZID=America/Detroit:20230604T123000
DTSTAMP:20260425T150057
CREATED:20230324T003542Z
LAST-MODIFIED:20230529T034026Z
UID:588-1685876400-1685881800@letthemcome.org
SUMMARY:Men's and Women's Day 2023
DESCRIPTION:2023 Let Them Come Men’s and Women’s Day.  Guest Speaker:  Evangelist Caron Rice \n\n\n\nTheme:  Rebuild \n\n\n\nColors: Lavender and White
URL:https://letthemcome.org/event/mens-and-womens-day-2023/
ATTACH;FMTTYPE=image/png:https://letthemcome.org/wp-content/uploads/2023/05/men-women-day-1.png
END:VEVENT
BEGIN:VEVENT
DTSTART;TZID=America/Detroit:20230618T110000
DTEND;TZID=America/Detroit:20230618T123000
DTSTAMP:20260425T150057
CREATED:20230613T033151Z
LAST-MODIFIED:20230613T033153Z
UID:909-1687086000-1687091400@letthemcome.org
SUMMARY:Morning Speaker: Pastor Karsean Jones Sr. \, 6-18-23
DESCRIPTION:Please join us on the 3rd Sunday\, June 18\, 2023\, at 11:00 a.m. for Sunday morning worship service. Our morning messenger will be our Pastor Karsean Jones Sr. \n\n\n\nHot beverages and pastries will be available before service.
URL:https://letthemcome.org/event/morning-speaker-pastor-karsean-jones-sr-6-18-23/
ATTACH;FMTTYPE=image/png:https://letthemcome.org/wp-content/uploads/2023/06/K-Jones-1.png
END:VEVENT
BEGIN:VEVENT
DTSTART;TZID=America/Detroit:20230625T110000
DTEND;TZID=America/Detroit:20230625T123000
DTSTAMP:20260425T150057
CREATED:20230422T183235Z
LAST-MODIFIED:20230621T031303Z
UID:783-1687690800-1687696200@letthemcome.org
SUMMARY:Morning Speaker: Rev. Tyrone Rayford\, 6-25-23
DESCRIPTION:Please come and worship with us.  Morning Speaker will be our Host Pulpit Officiant\, Rev. Tyrone Rayford.
URL:https://letthemcome.org/event/morning-speaker-rev-tyrone-rayford-6-25-23/
ATTACH;FMTTYPE=image/png:https://letthemcome.org/wp-content/uploads/2023/06/Rayford-kl.png
END:VEVENT
END:VCALENDAR