BEGIN:VCALENDAR
VERSION:2.0
PRODID:-//Let Them Come Missionary Baptist Church - ECPv6.15.20//NONSGML v1.0//EN
CALSCALE:GREGORIAN
METHOD:PUBLISH
X-WR-CALNAME:Let Them Come Missionary Baptist Church
X-ORIGINAL-URL:https://letthemcome.org
X-WR-CALDESC:Events for Let Them Come Missionary Baptist Church
REFRESH-INTERVAL;VALUE=DURATION:PT1H
X-Robots-Tag:noindex
X-PUBLISHED-TTL:PT1H
BEGIN:VTIMEZONE
TZID:America/Detroit
BEGIN:DAYLIGHT
TZOFFSETFROM:-0500
TZOFFSETTO:-0400
TZNAME:EDT
DTSTART:20220313T070000
END:DAYLIGHT
BEGIN:STANDARD
TZOFFSETFROM:-0400
TZOFFSETTO:-0500
TZNAME:EST
DTSTART:20221106T060000
END:STANDARD
BEGIN:DAYLIGHT
TZOFFSETFROM:-0500
TZOFFSETTO:-0400
TZNAME:EDT
DTSTART:20230312T070000
END:DAYLIGHT
BEGIN:STANDARD
TZOFFSETFROM:-0400
TZOFFSETTO:-0500
TZNAME:EST
DTSTART:20231105T060000
END:STANDARD
BEGIN:DAYLIGHT
TZOFFSETFROM:-0500
TZOFFSETTO:-0400
TZNAME:EDT
DTSTART:20240310T070000
END:DAYLIGHT
BEGIN:STANDARD
TZOFFSETFROM:-0400
TZOFFSETTO:-0500
TZNAME:EST
DTSTART:20241103T060000
END:STANDARD
END:VTIMEZONE
BEGIN:VEVENT
DTSTART;TZID=America/Detroit:20231001T110000
DTEND;TZID=America/Detroit:20231001T123000
DTSTAMP:20260425T102048
CREATED:20230919T042658Z
LAST-MODIFIED:20230919T042700Z
UID:1154-1696158000-1696163400@letthemcome.org
SUMMARY:Morning Speaker: Rev. Tyrone Rayford\, 10-1-23
DESCRIPTION:Morning Speaker will be our Host Pulpit Officiant\, Rev. Tyrone Rayford.
URL:https://letthemcome.org/event/morning-speaker-rev-tyrone-rayford-10-1-23-2/
END:VEVENT
BEGIN:VEVENT
DTSTART;TZID=America/Detroit:20231008T110000
DTEND;TZID=America/Detroit:20231008T123000
DTSTAMP:20260425T102048
CREATED:20230919T041600Z
LAST-MODIFIED:20231004T061425Z
UID:1152-1696762800-1696768200@letthemcome.org
SUMMARY:Morning Speaker: Rev. Matthew Brock\, 10-8-23
DESCRIPTION:Join us for Sunday morning worship beginning a 11:00 a.m.  The morning speaker will be Rev. Matthew Brock.
URL:https://letthemcome.org/event/morning-speaker-to-be-announced-9-24-23/
ATTACH;FMTTYPE=image/png:https://letthemcome.org/wp-content/uploads/2023/10/Rev-Gray-2.png
END:VEVENT
BEGIN:VEVENT
DTSTART;TZID=America/Detroit:20231015T110000
DTEND;TZID=America/Detroit:20231015T123000
DTSTAMP:20260425T102048
CREATED:20230919T043036Z
LAST-MODIFIED:20230919T043037Z
UID:1156-1697367600-1697373000@letthemcome.org
SUMMARY:Morning Speaker: To Be Announced \, 10-15-23
DESCRIPTION:
URL:https://letthemcome.org/event/morning-speaker-to-be-announced-10-15-23/
END:VEVENT
BEGIN:VEVENT
DTSTART;TZID=America/Detroit:20231022T110000
DTEND;TZID=America/Detroit:20231022T123000
DTSTAMP:20260425T102048
CREATED:20231003T033132Z
LAST-MODIFIED:20231112T200906Z
UID:1173-1697972400-1697977800@letthemcome.org
SUMMARY:Morning Speaker: Rev. William Gray\, 10-22-23.
DESCRIPTION:Join us for Sunday morning worship beginning a 11:00 a.m. The morning speaker will be Rev. William Gray.
URL:https://letthemcome.org/event/morning-speaker-to-be-rev-william-gray-10-22-23/
ATTACH;FMTTYPE=image/png:https://letthemcome.org/wp-content/uploads/2023/10/Rev-Gray-1.png
END:VEVENT
BEGIN:VEVENT
DTSTART;TZID=America/Detroit:20231029T110000
DTEND;TZID=America/Detroit:20231029T123000
DTSTAMP:20260425T102048
CREATED:20230422T182114Z
LAST-MODIFIED:20230504T012450Z
UID:778-1698577200-1698582600@letthemcome.org
SUMMARY:Friends & Family Day
DESCRIPTION:Join us for Friends & Family Day on October 30th during our morning service. Light refreshments will be served. Our service will begin at 11:00 a.m. \n\n\n\nHope you can join us. Feel free to bring a family member\, a friend\, or both.
URL:https://letthemcome.org/event/friends-and-family-day/
ATTACH;FMTTYPE=image/png:https://letthemcome.org/wp-content/uploads/2023/05/Palm-Sunday-4.png
END:VEVENT
END:VCALENDAR